BEGIN:VCALENDAR
VERSION:2.0
PRODID:-//Therfield Parish Council//Meeting Calendar//EN
CALSCALE:GREGORIAN
METHOD:PUBLISH
BEGIN:VEVENT
UID:70466-20250502@therfieldparishcouncil.gov.uk
DTSTAMP:20260423T101619Z
DTSTART;VALUE=DATE:20250502
DTEND;VALUE=DATE:20250503
SUMMARY:Extraordinary Council Meeting &#8211\\; 2 May 2025
DESCRIPTION:Full Council Meeting\nView details: https://therfieldparishcouncil.gov.uk/meetings/full-council-meeting-2-may-2025/
URL:https://therfieldparishcouncil.gov.uk/meetings/full-council-meeting-2-may-2025/
END:VEVENT
END:VCALENDAR
