BEGIN:VCALENDAR
VERSION:2.0
PRODID:-//Therfield Parish Council//Meeting Calendar//EN
CALSCALE:GREGORIAN
METHOD:PUBLISH
BEGIN:VEVENT
UID:70475-20250624@therfieldparishcouncil.gov.uk
DTSTAMP:20260421T084558Z
DTSTART;VALUE=DATE:20250624
DTEND;VALUE=DATE:20250625
SUMMARY:Extraordinary Council Meeting &#8211\\; 24 June 2025
DESCRIPTION:Full Council Meeting\nView details: https://therfieldparishcouncil.gov.uk/meetings/full-council-meeting-24-june-2025/
URL:https://therfieldparishcouncil.gov.uk/meetings/full-council-meeting-24-june-2025/
END:VEVENT
END:VCALENDAR
