BEGIN:VCALENDAR
VERSION:2.0
PRODID:-//Therfield Parish Council//Meeting Calendar//EN
CALSCALE:GREGORIAN
METHOD:PUBLISH
BEGIN:VEVENT
UID:70484-20240101@therfieldparishcouncil.gov.uk
DTSTAMP:20260423T084719Z
DTSTART;VALUE=DATE:20240101
DTEND;VALUE=DATE:20240102
SUMMARY:Full Council Meetings &#8211\\; 2024
DESCRIPTION:Full Council Meeting\nView details: https://therfieldparishcouncil.gov.uk/meetings/full-council-meetings-2024/
URL:https://therfieldparishcouncil.gov.uk/meetings/full-council-meetings-2024/
END:VEVENT
END:VCALENDAR
