BEGIN:VCALENDAR
VERSION:2.0
PRODID:-//Therfield Parish Council//Meeting Calendar//EN
CALSCALE:GREGORIAN
METHOD:PUBLISH
BEGIN:VEVENT
UID:70498-20230101@therfieldparishcouncil.gov.uk
DTSTAMP:20260423T085704Z
DTSTART;VALUE=DATE:20230101
DTEND;VALUE=DATE:20230102
SUMMARY:Full Council Meetings &#8211\\; 2023
DESCRIPTION:Full Council Meeting\nView details: https://therfieldparishcouncil.gov.uk/meetings/full-council-meetings-2023/
URL:https://therfieldparishcouncil.gov.uk/meetings/full-council-meetings-2023/
END:VEVENT
END:VCALENDAR
