BEGIN:VCALENDAR
VERSION:2.0
PRODID:-//Therfield Parish Council//Meeting Calendar//EN
CALSCALE:GREGORIAN
METHOD:PUBLISH
BEGIN:VEVENT
UID:70509-20230516@therfieldparishcouncil.gov.uk
DTSTAMP:20260423T085320Z
DTSTART;VALUE=DATE:20230516
DTEND;VALUE=DATE:20230517
SUMMARY:Annual Parish Meeting &#8211\\; 16 May 2023
DESCRIPTION:Annual Parish Meeting\nView details: https://therfieldparishcouncil.gov.uk/meetings/annual-parish-meeting-16-may-2023/
URL:https://therfieldparishcouncil.gov.uk/meetings/annual-parish-meeting-16-may-2023/
END:VEVENT
END:VCALENDAR
